BEGIN:VCALENDAR
PRODID:-//Bizzabo//EN
VERSION:2.0
BEGIN:VEVENT
UID:event-766701
ORGANIZER;CN="ACCC 43rd National Oncology Conference":mailto:registration@accc-cancer.org
DTSTAMP:20260424T230032Z
DTSTART:20261021T140000Z
DTEND:20261023T200000Z
SUMMARY:ACCC 43rd National Oncology Conference
DESCRIPTION:Join us in October 2026 for the National Oncology Conference
 , hosted by the Association of Cancer Care Centers (ACCC). T
 his premier event brings together clinicians, administrators
 , researchers, advanced practice providers, navigators, and 
 patient advocates to explore how oncology professionals are 
 driving innovation and shaping the future of cancer care.\n\
 nhttps://registration.accc-cancer.org/766701/agenda
LOCATION:450 Summer St, Boston, MA 02210
END:VEVENT
END:VCALENDAR